BEGIN:VCALENDAR
VERSION:2.0
PRODID:-//The Sacred Hallow - ECPv6.15.20//NONSGML v1.0//EN
CALSCALE:GREGORIAN
METHOD:PUBLISH
X-ORIGINAL-URL:https://thesacredhallow.com
X-WR-CALDESC:Events for The Sacred Hallow
REFRESH-INTERVAL;VALUE=DURATION:PT1H
X-Robots-Tag:noindex
X-PUBLISHED-TTL:PT1H
BEGIN:VTIMEZONE
TZID:UTC
BEGIN:STANDARD
TZOFFSETFROM:+0000
TZOFFSETTO:+0000
TZNAME:UTC
DTSTART:20250101T000000
END:STANDARD
END:VTIMEZONE
BEGIN:VEVENT
DTSTART;TZID=UTC:20260411T100000
DTEND;TZID=UTC:20260411T180000
DTSTAMP:20260420T083151
CREATED:20260313T160302Z
LAST-MODIFIED:20260313T160302Z
UID:207-1775901600-1775930400@thesacredhallow.com
SUMMARY:April 11th Grand Opening Welcomes Three Feathers Spiritual Wisdom Tarot Readings
DESCRIPTION:Please welcome Joanie. She is a well-known Tarot Reader from Lincoln Nebraska. She will be joining The Sacred Hallow Grand Opening Event $40 for on April 11th from 10am-6pm. She will be offering tarot reading for $40 for 20 minutes or $50 for 30 minutes.  I encourage to make an appointment as she will book fast. Walk-ins are welcome. I will notify on this page if she is booked.  Call for more information at 402-902-0399 or check out my Facebook message and message there.
URL:https://thesacredhallow.com/event/april-11th-grand-opening-welcomes-three-feathers-spiritual-wisdom-tarot-readings/
END:VEVENT
END:VCALENDAR